BEGIN:VCALENDAR
VERSION:2.0
PRODID:-//Economic Development Alliance - ECPv6.15.20//NONSGML v1.0//EN
CALSCALE:GREGORIAN
METHOD:PUBLISH
X-ORIGINAL-URL:https://yeslpc.com
X-WR-CALDESC:Events for Economic Development Alliance
REFRESH-INTERVAL;VALUE=DURATION:PT1H
X-Robots-Tag:noindex
X-PUBLISHED-TTL:PT1H
BEGIN:VTIMEZONE
TZID:America/Denver
BEGIN:DAYLIGHT
TZOFFSETFROM:-0700
TZOFFSETTO:-0600
TZNAME:MDT
DTSTART:20250309T090000
END:DAYLIGHT
BEGIN:STANDARD
TZOFFSETFROM:-0600
TZOFFSETTO:-0700
TZNAME:MST
DTSTART:20251102T080000
END:STANDARD
BEGIN:DAYLIGHT
TZOFFSETFROM:-0700
TZOFFSETTO:-0600
TZNAME:MDT
DTSTART:20260308T090000
END:DAYLIGHT
BEGIN:STANDARD
TZOFFSETFROM:-0600
TZOFFSETTO:-0700
TZNAME:MST
DTSTART:20261101T080000
END:STANDARD
BEGIN:DAYLIGHT
TZOFFSETFROM:-0700
TZOFFSETTO:-0600
TZNAME:MDT
DTSTART:20270314T090000
END:DAYLIGHT
BEGIN:STANDARD
TZOFFSETFROM:-0600
TZOFFSETTO:-0700
TZNAME:MST
DTSTART:20271107T080000
END:STANDARD
END:VTIMEZONE
BEGIN:VEVENT
DTSTART;TZID=America/Denver:20260910T080000
DTEND;TZID=America/Denver:20260910T170000
DTSTAMP:20260422T155527
CREATED:20260121T202135Z
LAST-MODIFIED:20260121T214538Z
UID:10000089-1789027200-1789059600@yeslpc.com
SUMMARY:2026 Alliance Summit
DESCRIPTION:The Alliance Summit returns with a focus on Fueling Our Economy—exploring how public wealth\, local assets\, and collective leadership can drive shared prosperity across our the Four Corners region. The 2026 Summit will bring regional leaders together to examine how land\, people\, infrastructure\, entrepreneurship\, and investment shape a resilient local economy\, and how communities can intentionally leverage what they already have to build what comes next. \nSave the Date! This year’s Summit will take place September 10\, 2026 at the Sky Ute Casino.
URL:https://yeslpc.com/event/2026-alliance-summit/
LOCATION:Sky Ute Casino\, 14324 CO-172\, Ignacio\, CO\, 81137\, United States
CATEGORIES:General,Summit
ATTACH;FMTTYPE=image/jpeg:https://yeslpc.com/wp-content/uploads/2026/01/2025AllianceSummit-409.jpg
END:VEVENT
END:VCALENDAR