BEGIN:VCALENDAR
VERSION:2.0
PRODID:-//Economic Development Alliance - ECPv6.15.20//NONSGML v1.0//EN
CALSCALE:GREGORIAN
METHOD:PUBLISH
X-WR-CALNAME:Economic Development Alliance
X-ORIGINAL-URL:https://yeslpc.com
X-WR-CALDESC:Events for Economic Development Alliance
REFRESH-INTERVAL;VALUE=DURATION:PT1H
X-Robots-Tag:noindex
X-PUBLISHED-TTL:PT1H
BEGIN:VTIMEZONE
TZID:America/Denver
BEGIN:DAYLIGHT
TZOFFSETFROM:-0700
TZOFFSETTO:-0600
TZNAME:MDT
DTSTART:20240310T090000
END:DAYLIGHT
BEGIN:STANDARD
TZOFFSETFROM:-0600
TZOFFSETTO:-0700
TZNAME:MST
DTSTART:20241103T080000
END:STANDARD
BEGIN:DAYLIGHT
TZOFFSETFROM:-0700
TZOFFSETTO:-0600
TZNAME:MDT
DTSTART:20250309T090000
END:DAYLIGHT
BEGIN:STANDARD
TZOFFSETFROM:-0600
TZOFFSETTO:-0700
TZNAME:MST
DTSTART:20251102T080000
END:STANDARD
BEGIN:DAYLIGHT
TZOFFSETFROM:-0700
TZOFFSETTO:-0600
TZNAME:MDT
DTSTART:20260308T090000
END:DAYLIGHT
BEGIN:STANDARD
TZOFFSETFROM:-0600
TZOFFSETTO:-0700
TZNAME:MST
DTSTART:20261101T080000
END:STANDARD
END:VTIMEZONE
BEGIN:VEVENT
DTSTART;TZID=America/Denver:20250911T080000
DTEND;TZID=America/Denver:20250911T170000
DTSTAMP:20260422T124418
CREATED:20250206T232008Z
LAST-MODIFIED:20250207T160032Z
UID:10000062-1757577600-1757610000@yeslpc.com
SUMMARY:2025 Alliance Summit
DESCRIPTION:The 2025 Alliance Summit invites you to explore this year’s theme: Rooted in Community. As we gather at the heart of Southwest Colorado\, we will delve into the unique strengths of our region\, celebrate the resilience of our communities\, and walk away with tools that deepen our collective efforts to support a thriving La Plata County. \nSponsorship Opportunities available! Learn more here.
URL:https://yeslpc.com/event/2025-alliance-summit/
LOCATION:Sky Ute Casino\, 14324 CO-172\, Ignacio\, CO\, 81137\, United States
CATEGORIES:General,Summit
ATTACH;FMTTYPE=image/jpeg:https://yeslpc.com/wp-content/uploads/2024/12/2024LPEDAllianceSummitPhotography-311.jpg
END:VEVENT
END:VCALENDAR