BEGIN:VCALENDAR
VERSION:2.0
PRODID:-//Economic Development Alliance - ECPv6.15.20//NONSGML v1.0//EN
CALSCALE:GREGORIAN
METHOD:PUBLISH
X-WR-CALNAME:Economic Development Alliance
X-ORIGINAL-URL:https://yeslpc.com
X-WR-CALDESC:Events for Economic Development Alliance
REFRESH-INTERVAL;VALUE=DURATION:PT1H
X-Robots-Tag:noindex
X-PUBLISHED-TTL:PT1H
BEGIN:VTIMEZONE
TZID:America/Denver
BEGIN:DAYLIGHT
TZOFFSETFROM:-0700
TZOFFSETTO:-0600
TZNAME:MDT
DTSTART:20240310T090000
END:DAYLIGHT
BEGIN:STANDARD
TZOFFSETFROM:-0600
TZOFFSETTO:-0700
TZNAME:MST
DTSTART:20241103T080000
END:STANDARD
BEGIN:DAYLIGHT
TZOFFSETFROM:-0700
TZOFFSETTO:-0600
TZNAME:MDT
DTSTART:20250309T090000
END:DAYLIGHT
BEGIN:STANDARD
TZOFFSETFROM:-0600
TZOFFSETTO:-0700
TZNAME:MST
DTSTART:20251102T080000
END:STANDARD
BEGIN:DAYLIGHT
TZOFFSETFROM:-0700
TZOFFSETTO:-0600
TZNAME:MDT
DTSTART:20260308T090000
END:DAYLIGHT
BEGIN:STANDARD
TZOFFSETFROM:-0600
TZOFFSETTO:-0700
TZNAME:MST
DTSTART:20261101T080000
END:STANDARD
BEGIN:DAYLIGHT
TZOFFSETFROM:-0700
TZOFFSETTO:-0600
TZNAME:MDT
DTSTART:20270314T090000
END:DAYLIGHT
BEGIN:STANDARD
TZOFFSETFROM:-0600
TZOFFSETTO:-0700
TZNAME:MST
DTSTART:20271107T080000
END:STANDARD
END:VTIMEZONE
BEGIN:VEVENT
DTSTART;TZID=America/Denver:20260325T100000
DTEND;TZID=America/Denver:20260325T113000
DTSTAMP:20260419T060956
CREATED:20260219T170716Z
LAST-MODIFIED:20260225T180508Z
UID:10000092-1774432800-1774438200@yeslpc.com
SUMMARY:Webinar: IRS Updates for Business
DESCRIPTION:Join us for an IRS Updates for Business webinar with Neki Cox\, IRS Communications & Liaison. Learn how the IRS Business Tax Account tool\, the IRS Identity Protection PIN\, and H.R.1 “Big Beautiful Tax Bill” could impact your business. \nEvent Details:\nMarch 25\, 2026\n10:00-11:30am\nVia Zoom. Register Here. \nHosted by Durango BID\, Durango Chamber\, La Plata Economic Alliance\, Local First\, and SWCO Small Business Development Center. \n 
URL:https://yeslpc.com/event/irs-webinar/
LOCATION:Zoom
CATEGORIES:Community,General
ATTACH;FMTTYPE=image/jpeg:https://yeslpc.com/wp-content/uploads/2026/02/IRS-Updates-for-Business.jpg
END:VEVENT
BEGIN:VEVENT
DTSTART;TZID=America/Denver:20260106T083000
DTEND;TZID=America/Denver:20260106T120000
DTSTAMP:20260419T060956
CREATED:20251201T183334Z
LAST-MODIFIED:20260105T164618Z
UID:10000086-1767688200-1767700800@yeslpc.com
SUMMARY:34th Annual Southwest Economic Outlook
DESCRIPTION:Leading business and economics experts will analyze current economic conditions and trends affecting local\, state\, and national markets. \nThis forum provides essential economic intelligence for business leaders\, nonprofit executives\, government officials\, and entrepreneurs. Understanding economic forces enables more informed strategic decision-making across all sectors. \nReview the Agenda \n\n\nDate: January 6\, 2026\nTime: 8:30 am – 12 pm  | Breakfast and coffee served from 8 – 8:30 am\nLocation: Student Union Ballroom
URL:https://yeslpc.com/event/sw-economic-outlook/
LOCATION:Fort Lewis College\, 1000 Rim Dr\, Durango\, CO\, 81301\, United States
CATEGORIES:Community
ATTACH;FMTTYPE=image/jpeg:https://yeslpc.com/wp-content/uploads/2025/12/34th-outlook.jpg
END:VEVENT
BEGIN:VEVENT
DTSTART;TZID=America/Denver:20251216T083000
DTEND;TZID=America/Denver:20251216T163000
DTSTAMP:20260419T060956
CREATED:20251201T183413Z
LAST-MODIFIED:20251201T183413Z
UID:10000085-1765873800-1765902600@yeslpc.com
SUMMARY:2nd Annual Four Corners AI Conference
DESCRIPTION:The La Plata Economic Development Alliance\, Durango Chamber of Commerce\, and Fort Lewis College are proud to announce the Four Corners AI Conference\, set for December 16th\, 2025. This event\, free and open to the public\, will gather experts\, enthusiasts\, and newcomers alike on FLC’s campus to explore the rapidly growing field of artificial intelligence and its real-world applications across industries. \nWith sessions tailored for beginners\, intermediates\, and advanced participants\, the conference will provide attendees with valuable insights and hands-on learning opportunities\, emphasizing how AI technologies can be utilized to enhance industry operations\, improve decision-making\, and boost innovation. \n\n\n\n\n\n\n\nDecember 16th\, 2025 – 8:30am to 4:30pm \n\n\n\n\n\n\n\n\nFort Lewis College campus\, Durango CO \n\n\n\n\n\n\n\nhttps://ai.fortlewis.edu/four-corners-ai-conference
URL:https://yeslpc.com/event/2nd-annual-four-corners-ai-conference/
LOCATION:Fort Lewis College\, 1000 Rim Dr\, Durango\, CO\, 81301\, United States
CATEGORIES:Community
ATTACH;FMTTYPE=image/jpeg:https://yeslpc.com/wp-content/uploads/2024/10/Half-page-Ad-for-conference.jpg
END:VEVENT
BEGIN:VEVENT
DTSTART;TZID=America/Denver:20250312T173000
DTEND;TZID=America/Denver:20250312T190000
DTSTAMP:20260419T060956
CREATED:20250214T152500Z
LAST-MODIFIED:20250226T171004Z
UID:10000072-1741800600-1741806000@yeslpc.com
SUMMARY:Public Presentation - Childcare Strategic Investment Plan
DESCRIPTION:Join us on March 12th at the Durango Public Library for a public presentation on the La Plata Early Childcare Strategic Investment Plan—a $20 million framework designed to expand access to childcare\, support early childhood educators\, and strengthen the local economy. \nDeveloped in partnership with the Early Childhood Council of La Plata County\, City of Durango\, and Regional Housing Alliance\, and informed by over 300 community members\, this plan provides a data-driven approach to addressing La Plata County’s childcare shortage. Key components include: \n\nMarket & Economic Analysis – Assessing current gaps and financial impact.\nCase Studies – Learning from successful models in other communities.\nTargeted Solutions – Expanding capacity\, improving wages\, and funding infrastructure.\nImplementation Plan – A roadmap for sustainable\, long-term change.\n\nBe part of the conversation! Learn how our community is coming together to create meaningful\, lasting solutions\, and share your input to help shape the next steps.
URL:https://yeslpc.com/event/childcare-plan-presentation/
LOCATION:Durango Public Library\, 1900 E 3rd Ave\, Durango\, CO\, 81301\, United States
CATEGORIES:Community,General
ATTACH;FMTTYPE=image/jpeg:https://yeslpc.com/wp-content/uploads/2025/02/Childcare-LinkedIn-Announcement-e1738697528655.jpg
END:VEVENT
END:VCALENDAR